BEGIN:VCALENDAR
VERSION:2.0
PRODID:-//Treffpunkt Natur - ECPv6.15.20//NONSGML v1.0//EN
CALSCALE:GREGORIAN
METHOD:PUBLISH
X-WR-CALNAME:Treffpunkt Natur
X-ORIGINAL-URL:https://triffdienatur.de
X-WR-CALDESC:Veranstaltungen für Treffpunkt Natur
REFRESH-INTERVAL;VALUE=DURATION:PT1H
X-Robots-Tag:noindex
X-PUBLISHED-TTL:PT1H
BEGIN:VTIMEZONE
TZID:Europe/Berlin
BEGIN:DAYLIGHT
TZOFFSETFROM:+0100
TZOFFSETTO:+0200
TZNAME:CEST
DTSTART:20220327T010000
END:DAYLIGHT
BEGIN:STANDARD
TZOFFSETFROM:+0200
TZOFFSETTO:+0100
TZNAME:CET
DTSTART:20221030T010000
END:STANDARD
BEGIN:DAYLIGHT
TZOFFSETFROM:+0100
TZOFFSETTO:+0200
TZNAME:CEST
DTSTART:20230326T010000
END:DAYLIGHT
BEGIN:STANDARD
TZOFFSETFROM:+0200
TZOFFSETTO:+0100
TZNAME:CET
DTSTART:20231029T010000
END:STANDARD
BEGIN:DAYLIGHT
TZOFFSETFROM:+0100
TZOFFSETTO:+0200
TZNAME:CEST
DTSTART:20240331T010000
END:DAYLIGHT
BEGIN:STANDARD
TZOFFSETFROM:+0200
TZOFFSETTO:+0100
TZNAME:CET
DTSTART:20241027T010000
END:STANDARD
END:VTIMEZONE
BEGIN:VEVENT
DTSTART;TZID=Europe/Berlin:20230522T160000
DTEND;TZID=Europe/Berlin:20230522T173000
DTSTAMP:20260423T100656
CREATED:20230210T075632Z
LAST-MODIFIED:20230508T083746Z
UID:237284-1684771200-1684776600@triffdienatur.de
SUMMARY:Kräuterkaffee
DESCRIPTION:Kaffee – Kuchen – Kräuterwissen \nIn gemütlicher Runde bei Kaffee und Kuchen lässt sich schön  über Kräuter plaudern. Ein Austausch mit Anregungen\, Tipps und Tricks.
URL:https://triffdienatur.de/event/kraeuterkaffee-2/
LOCATION:Treffpunkt Natur\, Auerbacher Straße 152\, Klingenthal\, Sachsen/Vogtland\, 08248\, Deutschland
END:VEVENT
END:VCALENDAR