BEGIN:VCALENDAR
VERSION:2.0
PRODID:-//Treffpunkt Natur - ECPv6.15.20//NONSGML v1.0//EN
CALSCALE:GREGORIAN
METHOD:PUBLISH
X-WR-CALNAME:Treffpunkt Natur
X-ORIGINAL-URL:https://triffdienatur.de
X-WR-CALDESC:Veranstaltungen für Treffpunkt Natur
REFRESH-INTERVAL;VALUE=DURATION:PT1H
X-Robots-Tag:noindex
X-PUBLISHED-TTL:PT1H
BEGIN:VTIMEZONE
TZID:Europe/Berlin
BEGIN:DAYLIGHT
TZOFFSETFROM:+0100
TZOFFSETTO:+0200
TZNAME:CEST
DTSTART:20220327T010000
END:DAYLIGHT
BEGIN:STANDARD
TZOFFSETFROM:+0200
TZOFFSETTO:+0100
TZNAME:CET
DTSTART:20221030T010000
END:STANDARD
BEGIN:DAYLIGHT
TZOFFSETFROM:+0100
TZOFFSETTO:+0200
TZNAME:CEST
DTSTART:20230326T010000
END:DAYLIGHT
BEGIN:STANDARD
TZOFFSETFROM:+0200
TZOFFSETTO:+0100
TZNAME:CET
DTSTART:20231029T010000
END:STANDARD
BEGIN:DAYLIGHT
TZOFFSETFROM:+0100
TZOFFSETTO:+0200
TZNAME:CEST
DTSTART:20240331T010000
END:DAYLIGHT
BEGIN:STANDARD
TZOFFSETFROM:+0200
TZOFFSETTO:+0100
TZNAME:CET
DTSTART:20241027T010000
END:STANDARD
END:VTIMEZONE
BEGIN:VEVENT
DTSTART;TZID=Europe/Berlin:20230608T160000
DTEND;TZID=Europe/Berlin:20230608T180000
DTSTAMP:20260423T113814
CREATED:20221206T095336Z
LAST-MODIFIED:20230601T084729Z
UID:237238-1686240000-1686247200@triffdienatur.de
SUMMARY:Kräuterführung - Wildes von Wegesrand
DESCRIPTION:Vor der Haustür verstecken sich die wahre Schätze der Natur. Komm sie mit mir entdecken! \nWas aktuell wächst\, wie du es erkennst und nutzen kannst\, erfährst du in lockerer Runde. Ungefähr 10 Kräuter stellen wir uns detailliert vor und stellen zusammen kleine Kostprobe her. \nAußerdem bekommst du ein paar Tipps zum Sammeln\, Trocknen und Aufbewahren. \nIch freue mich auf dich und bitte um Voranmeldung\, damit ich alles gut vorbereiten kann. \nDauer: ca. 2 Stunden (16 bis 18 Uhr)\nPreis: 20 Euro/Person \nKinder bis 6 Jahre kostenfrei\, bis 12 Jahre für 10\,00 EUR. \nDie Kräuterführung findet ab 2 Personen statt. Maximal sind 15 Personen vorgesehen (inkl. Kinder). \nAnmeldung ist erforderlich: info@triffdienatur.de oder auch per WhatsApp 0162/3982232.
URL:https://triffdienatur.de/event/kraeuterkaffee/
LOCATION:Parkplatz Schulstraße\, Schulstraße 85\, Klingenthal\, Sachsen\, 08248\, Deutschland
END:VEVENT
END:VCALENDAR